BEGIN:VCALENDAR
VERSION:2.0
PRODID:-//wp-events-plugin.com//6.6.3//EN
TZID:Europe/Vienna
X-WR-TIMEZONE:Europe/Vienna
BEGIN:VEVENT
UID:159@informations-energetik.at
DTSTART;TZID=Europe/Vienna:20170101T140000
DTEND;TZID=Europe/Vienna:20170101T190000
DTSTAMP:20170125T153712Z
URL:https://www.informations-energetik.at/veranstaltungen/praxistag-fuer-i
 nformations-energetikerinnen-2017-2/
SUMMARY:Praxistag für Informations-EnergetikerInnen 2017 - Zentrum für In
 formations-Energetik\, Denise Wahl - 1 Jan. 17 14:00
DESCRIPTION:Um das Wissen aufzufrischen und Fragen auszutauschen sind auch 
 alle Bio-Energetische BeraterInnen sehr herzlich willkommen.\n\nPreis: 
 € 75\,-- inkl. 20 % MwSt.\n\ninkl. Kuchen und Pausengetränke!\n\n&nbsp\
 ;\n\nLeitung:  Denise Wahl  \n\n&nbsp\;\n\n&nbsp\;
ATTACH;FMTTYPE=image/jpeg:https://www.informations-energetik.at/wp-content
 /uploads/2015/02/P1020873-e1436803479172.jpg
CATEGORIES:Übungstag / Stammtisch
LOCATION:Zentrum für Informations-Energetik\, Denise Wahl\, Lanzenberg 54\
 , 4320 Perg\, Österreich
GEO:48.25760529999999;14.62333430000001
X-APPLE-STRUCTURED-LOCATION;VALUE=URI;X-ADDRESS=Lanzenberg 54\, 4320 Perg\,
  Österreich;X-APPLE-RADIUS=100;X-TITLE=Zentrum für Informations-Energeti
 k\, Denise Wahl:geo:48.25760529999999,14.62333430000001
END:VEVENT
BEGIN:VTIMEZONE
TZID:Europe/Vienna
X-LIC-LOCATION:Europe/Vienna
BEGIN:STANDARD
DTSTART:20161030T020000
TZOFFSETFROM:+0200
TZOFFSETTO:+0100
TZNAME:CET
END:STANDARD
END:VTIMEZONE
END:VCALENDAR