BEGIN:VCALENDAR
VERSION:2.0
PRODID:-//wp-events-plugin.com//6.6.3//EN
TZID:Europe/Vienna
X-WR-TIMEZONE:Europe/Vienna
BEGIN:VEVENT
UID:198@informations-energetik.at
DTSTART;TZID=Europe/Vienna:20180201T090000
DTEND;TZID=Europe/Vienna:20180201T150000
DTSTAMP:20171219T111059Z
URL:https://www.informations-energetik.at/veranstaltungen/mehr-energie-fue
 r-den-tag-energie-balance-3/
SUMMARY:Mehr Energie für den Tag - Energie & Balance 3 - Katharina Steiner
     Energetikpraxis - 1 Feb. 18 09:00
DESCRIPTION: \n\nModul 3:\nMehr Energie durch Meridian-Ausgleich und Narbe
 nentstörung.\nWas tun bei Allergien\, Nahrungsunverträglichkeiten\, Pilz
 belastung…\nTipps zum Ausleiten und Entgiften…\nLeitung: Katharina St
 einer\n\n&nbsp\;\n\nPreis: €  123\,--/Modul  inkl. Kursunterlagen\, Mi
 ttagssuppe\, Kuchen und Pausengetränke!\n\n&nbsp\;\nInfos/Anmeldung  bei
 :\nKatharina Steiner - Tel. Nr. 0650 777 37 69 oder\nE-Mail  kathi.stei
 ner@aon.at\n\nWeitere Informationen siehe unter www.informations-energetik
 .at\n&nbsp\;\n\n&nbsp\;
ATTACH;FMTTYPE=image/jpeg:https://www.informations-energetik.at/wp-content
 /uploads/2014/06/DSC_0018-e1486113607431.jpg
CATEGORIES:Energie und Balance - Kompaktkurs
LOCATION:Katharina Steiner    Energetikpraxis\, Aisttalstraße 44\, 4311 Sc
 hwertberg\, Oberösterreich\, Österreich
GEO:48.2691737;14.575191200000063
X-APPLE-STRUCTURED-LOCATION;VALUE=URI;X-ADDRESS=Aisttalstraße 44\, 4311 Sc
 hwertberg\, Oberösterreich\, Österreich;X-APPLE-RADIUS=100;X-TITLE=Katha
 rina Steiner    Energetikpraxis:geo:48.2691737,14.575191200000063
END:VEVENT
BEGIN:VTIMEZONE
TZID:Europe/Vienna
X-LIC-LOCATION:Europe/Vienna
BEGIN:STANDARD
DTSTART:20171029T020000
TZOFFSETFROM:+0200
TZOFFSETTO:+0100
TZNAME:CET
END:STANDARD
END:VTIMEZONE
END:VCALENDAR