BEGIN:VCALENDAR
VERSION:2.0
PRODID:-//wp-events-plugin.com//6.6.3//EN
TZID:Europe/Vienna
X-WR-TIMEZONE:Europe/Vienna
BEGIN:VEVENT
UID:124@informations-energetik.at
DTSTART;TZID=Europe/Vienna:20160318T140000
DTEND;TZID=Europe/Vienna:20160318T190000
DTSTAMP:20160113T130227Z
URL:https://www.informations-energetik.at/veranstaltungen/fortbildung-fuer
 -absolventinnen-mit-schwerpunkt-augenbalance/
SUMMARY:Neu:  Energetische Augenbalance - Zentrum für Informations-Energet
 ik\, Denise Wahl - 18 März 16 14:00
DESCRIPTION:„Energetische Augenbalance“ mit verschiedenen Techniken\nun
 d Symbolen der I-E\nFortbildung für alle Informations-EnergetikerInnen/Bi
 oenergetische BeraterInnen:\n\n&nbsp\;\n\nThemen\, die zur Sprache kommen:
 \n\n	Aufbau des Auges\, Augenbewegungen\n	Verschiedene Testlisten + Aspekt
 e des Sehens\n	Akupunkturpunkte für die Augenbalance\n	Chronischer Stress
 \, Realität sehen/wahrnehmen\, Akzeptanz der Brille\, Fehlsichtigkeit\n	E
 motionale Themen in Verbindung mit den Augen - ohne zu verallgemeinern z.B
 .: Kurzsichtige sind eher introvertiert und lieben Genauigkeit und Details
 . Weitsichtige sind eher extrovertiert und nach außen orientiert… Zurü
 ckgehaltene Gefühle bewirken chronische Verspannungen in den Augen. Erleb
 nisse aus der Kindheit\, Traumata (will nicht hinschauen\, kann ich nicht 
 mehr sehen) sowie spezielle Familiensysteme und Situationen.\n\n&nbsp\;\n\
 nLeitung: Denise Wahl\n\nPreis € 99\,-- inkl. MwSt.\ninkl. Pausengeträn
 ke\, Kuchen und Kursunterlagen!\n\nEmpfehlenswert ist der Umgang  mit der
  Einhandrute und Körbler-Kenntnisse!\nMax. 10 Teilnehmer\, bitte um baldi
 ge Anmeldung.\n\n&nbsp\;\n&nbsp\;\n\nInfos/Anmeldung:\ndenise.wahl@informa
 tions-energetik.at  bzw.  Tel. Nr. 07262 526 70\n\n&nbsp\;\n\nWeitere I
 nformationen siehe unter www.informations-energetik.at\n&nbsp\;\n\n&nbsp\;
ATTACH;FMTTYPE=image/jpeg:https://www.informations-energetik.at/wp-content
 /uploads/2015/02/P1020873-e1436803479172.jpg
CATEGORIES:Spezialkurs: Zähne, Augen, Haare als Spiegelbild der Seele -
 Spezial SP 3,Spezialkurse
LOCATION:Zentrum für Informations-Energetik\, Denise Wahl\, Lanzenberg 54\
 , 4320 Perg\, Österreich
GEO:48.25760529999999;14.62333430000001
X-APPLE-STRUCTURED-LOCATION;VALUE=URI;X-ADDRESS=Lanzenberg 54\, 4320 Perg\,
  Österreich;X-APPLE-RADIUS=100;X-TITLE=Zentrum für Informations-Energeti
 k\, Denise Wahl:geo:48.25760529999999,14.62333430000001
END:VEVENT
BEGIN:VTIMEZONE
TZID:Europe/Vienna
X-LIC-LOCATION:Europe/Vienna
BEGIN:STANDARD
DTSTART:20151025T020000
TZOFFSETFROM:+0200
TZOFFSETTO:+0100
TZNAME:CET
END:STANDARD
END:VTIMEZONE
END:VCALENDAR