BEGIN:VCALENDAR
VERSION:2.0
PRODID:-//wp-events-plugin.com//6.6.3//EN
TZID:Europe/Vienna
X-WR-TIMEZONE:Europe/Vienna
BEGIN:VEVENT
UID:87@informations-energetik.at
DTSTART;TZID=Europe/Vienna:20150424T140000
DTEND;TZID=Europe/Vienna:20150424T190000
DTSTAMP:20150209T212136Z
URL:https://www.informations-energetik.at/veranstaltungen/energie-balance-
 symbole-fuer-die-seele-modul-3/
SUMMARY:Energie & Balance / Symbole für die Seele  -  Modul 3             
       - Zentrum für Informations-Energetik\, Denise Wahl - 24 Apr. 15 14:
 00
DESCRIPTION:Symbole für die Seele – Alltagsstress einfach bewältigen\nL
 eitung: Denise Wahl\n\nPreis: €  123\,--/Modul  incl. Kursunterlagen\,
  Kuchen und Pausengetränke!\n\n&nbsp\;
ATTACH;FMTTYPE=image/jpeg:https://www.informations-energetik.at/wp-content
 /uploads/2012/01/Vektoren.jpg
CATEGORIES:Energie und Balance - Kompaktkurs
LOCATION:Zentrum für Informations-Energetik\, Denise Wahl\, Lanzenberg 54\
 , 4320 Perg\, Österreich
GEO:48.25760529999999;14.62333430000001
X-APPLE-STRUCTURED-LOCATION;VALUE=URI;X-ADDRESS=Lanzenberg 54\, 4320 Perg\,
  Österreich;X-APPLE-RADIUS=100;X-TITLE=Zentrum für Informations-Energeti
 k\, Denise Wahl:geo:48.25760529999999,14.62333430000001
END:VEVENT
BEGIN:VTIMEZONE
TZID:Europe/Vienna
X-LIC-LOCATION:Europe/Vienna
BEGIN:DAYLIGHT
DTSTART:20150329T030000
TZOFFSETFROM:+0100
TZOFFSETTO:+0200
TZNAME:CEST
END:DAYLIGHT
END:VTIMEZONE
END:VCALENDAR