BEGIN:VCALENDAR
VERSION:2.0
PRODID:-//wp-events-plugin.com//6.6.3//EN
TZID:Europe/Vienna
X-WR-TIMEZONE:Europe/Vienna
BEGIN:VEVENT
UID:28@informations-energetik.at
DTSTART;TZID=Europe/Vienna:20131115T140000
DTEND;TZID=Europe/Vienna:20131115T193000
DTSTAMP:20131113T191632Z
URL:https://www.informations-energetik.at/veranstaltungen/energie-balance-
 ii-3/
SUMMARY:Energie + Balance I - Weinbau Gmeiner - 15 Nov. 13 14:00
DESCRIPTION:Modul I\nDrei aufeinander abgestimmte Termine zum anwendungsori
 entierten Kennenlernen der Informations-Energetik.\nPreis/Modul&nbsp\;&nbs
 p\; € 96\,--\nWiederholer&nbsp\;&nbsp\; € 50\,--\n&nbsp\;\nFachliterat
 ur und Einhandruten sind beim Kurs erhältlich.\n&nbsp\;\nDetails zum Inha
 lt der Workshops:\nKurse &gt\; Energie und Balance &gt\; Module\nInformati
 onsbroschüre (PDF): Energie und Balance\n&nbsp\;\nThemenschwerpunkt\n\nWi
 chtig für das erste Modul ist das richtige und sichere Arbeiten mit der E
 inhandrute \, Fragetechniken und die persönliche Testfähigkeit prüfen\n
 Einsatzmöglichkeiten der Informations-Energetik\nArbeit mit Testmateriali
 en\, um die Auswirkung auf das persönliche Energiefeld zu ermitteln (Stä
 rkung und Schwächung)\nDer energetische Schwingkreis und die korrespondie
 renden Symbole\nWasser als Mittel zur Informationsübertragung\nTipps aus 
 der Praxis für die Praxis…\n\n&nbsp\;\nÜbersicht aller Kurstermine\nEn
 ergie und Balance I:&nbsp\;Freitag\, 15.&nbsp\;November 2013 Perg\nEnergie
  und Balance II: Freitag\,&nbsp\;29. November 2013 Perg\nEnergie und Balan
 ce III:&nbsp\;Freitag\, 24. Jänner 2014 Perg\n
ATTACH;FMTTYPE=image/jpeg:https://www.informations-energetik.at/wp-content
 /uploads/2013/01/Selbsthilfe-e1406053107216.jpg
CATEGORIES:Energie und Balance - Kompaktkurs
LOCATION:Weinbau Gmeiner\, Weinzierl 8\, 4320 Perg\, Österreich
GEO:48.2545791;14.604665599999976
X-APPLE-STRUCTURED-LOCATION;VALUE=URI;X-ADDRESS=Weinzierl 8\, 4320 Perg\, 
 Österreich;X-APPLE-RADIUS=100;X-TITLE=Weinbau Gmeiner:geo:48.2545791,14.6
 04665599999976
END:VEVENT
BEGIN:VTIMEZONE
TZID:Europe/Vienna
X-LIC-LOCATION:Europe/Vienna
BEGIN:STANDARD
DTSTART:20131027T020000
TZOFFSETFROM:+0200
TZOFFSETTO:+0100
TZNAME:CET
END:STANDARD
END:VTIMEZONE
END:VCALENDAR