BEGIN:VCALENDAR
VERSION:2.0
PRODID:-//wp-events-plugin.com//6.6.3//EN
TZID:Europe/Vienna
X-WR-TIMEZONE:Europe/Vienna
BEGIN:VEVENT
UID:174@informations-energetik.at
DTSTART;TZID=Europe/Vienna:20170505T090000
DTEND;TZID=Europe/Vienna:20170505T140000
DTSTAMP:20170125T144728Z
URL:https://www.informations-energetik.at/veranstaltungen/energie-balance-
 2-symbole-fuer-die-seele-alltagsstress-einfach-bewaeltigen-4/
SUMMARY:Energie & Balance 2  -  Symbole für die Seele  -  Alltagsstress ei
 nfach bewältigen - Shiatsu & Energetik Praxis - Niederwimmer - 5 Mai 17 0
 9:00
DESCRIPTION:Modul 2:\nWie gehe ich effizient mit Stressthemen wie Ärger\, 
 Wut\, Trauer\, Neid\, Eifersucht und anderen Belastungen um?\nEinsatz von 
 Affirmationen und Heilzahlen.\nTipps zur Vergangenheitsbewältigung und lo
 slassen leicht gemacht.\nKein Seelenstriptease erforderlich!\nLeitung: Th
 eresia Niederwimmer\n\n&nbsp\;\n\nPreis: €  123\,--/Modul  incl. Kursu
 nterlagen\, Kuchen und Pausengetränke!\n\n&nbsp\;\nInfos/Anmeldung  bei:
 \nTheresia Niederwimmer - Tel. Nr. 07242/55258 oder\nE-Mail  theresia.nie
 derwimmer@gmail.com\n\n&nbsp\;\n\nWeitere Informationen siehe unter www.in
 formations-energetik.at\n\n&nbsp\;\n\n&nbsp\;
ATTACH;FMTTYPE=image/jpeg:https://www.informations-energetik.at/wp-content
 /uploads/2013/08/Foto-Resi-für-Kurs-DSC035091-e1436803667666.jpg
CATEGORIES:Energie und Balance - Kompaktkurs
LOCATION:Shiatsu & Energetik Praxis - Niederwimmer\, Unterschauersberg 18\,
  4600  Thalheim bei Wels\, Österreich
GEO:48.138642;14.030494800000042
X-APPLE-STRUCTURED-LOCATION;VALUE=URI;X-ADDRESS=Unterschauersberg 18\, 4600
   Thalheim bei Wels\, Österreich;X-APPLE-RADIUS=100;X-TITLE=Shiatsu & Ene
 rgetik Praxis - Niederwimmer:geo:48.138642,14.030494800000042
END:VEVENT
BEGIN:VTIMEZONE
TZID:Europe/Vienna
X-LIC-LOCATION:Europe/Vienna
BEGIN:DAYLIGHT
DTSTART:20170326T030000
TZOFFSETFROM:+0100
TZOFFSETTO:+0200
TZNAME:CEST
END:DAYLIGHT
END:VTIMEZONE
END:VCALENDAR