BEGIN:VCALENDAR
VERSION:2.0
PRODID:-//wp-events-plugin.com//6.6.3//EN
TZID:Europe/Vienna
X-WR-TIMEZONE:Europe/Vienna
BEGIN:VEVENT
UID:178@informations-energetik.at
DTSTART;TZID=Europe/Vienna:20171012T090000
DTEND;TZID=Europe/Vienna:20171012T143000
DTSTAMP:20171001T201334Z
URL:https://www.informations-energetik.at/veranstaltungen/energie-balance-
 1-lerne-den-umgang-mit-der-einhand-rute-sowie-die-basic-von-koerbler-symbo
 len/
SUMMARY:Energie & Balance 1  -  Lerne den Umgang mit der Einhand-Rute sowie
  die Basic von Körbler®-Symbolen - Katharina Steiner    Energetikpraxis 
 - 12 Okt. 17 09:00
DESCRIPTION:Eine Kurz-Ausbildung für den „Hausgebrauch“. Einfache Grun
 dlagen für die energetische Notfallapotheke u.v.a. Dieses Wissen kann sof
 ort in der eigenen Familie „1. Hilfe-mäßig“ angewendet werden. Die M
 odule können einzeln oder im Set gebucht werden.             
                                                  
            \nModul 1:\nLerne den Umgang mit der Einhand-Rute sowie di
 e Basic von Körbler®-Symbolen.\nWeiters:  Energetische Austestung von N
 ahrungs- und Nahrungsergänzungsmittel\, Naturpflanzenextrakte\, Essenzen
 …\nSchlafplatz hinsichtlich Störfelder austesten und optimieren.\nE-Smo
 g und Handy-Belastung – wie kann man Abhilfe schaffen?\nSowie energetisc
 he Narbenentstörung\, Lerntipps\, …\nLeitung: Katharina  Steiner  –
   Do\, 12. Oktober 2017\n\n\nModul 2:\nWie gehe ich effizient mit Stress
 themen wie Ärger\, Wut\, Trauer\, Neid\, Eifersucht und anderen Belastung
 en um? Tipps zur Vergangenheitsbewältigung und zum Loslassen\; Soforthilf
 e für die Seele\; Danken und Verzeihen\; Kein Seelenstriptease erforderli
 ch!\nEinschränkende Glaubenssätze\; Sprache der Organe\; Einflussfaktore
 n auf die Gesundheit\; Einsatz von Symbolen\, Affirmationen und Heilzahlen
 …\nLeitung: Katharina Steiner  –  Do\, 30. November 2017\n\n&nbsp\;\
 n\nModul 3:\nMehr Energie durch Meridian-Ausgleich und Narbenentstörung. 
 Was tun bei Allergien\, Nahrungsunverträglichkeiten\, Pilzbelastung…? T
 ipps zum Ausleiten und Entgiften…\nLeitung / Datum noch offen\n\n&nbsp\;
 \n\nJeweils von 9.00 – 14.30 Uhr   (1/2 Stunde Mittagspause)\n\nPreis:
   €  123\,–/Modul  incl. Kursunterlagen\, Kuchen und Pausengetränk
 e!\n\n(Mit Vorauszahler-Rabatt: € 333\,–/alle 3 Module – Ersparnis 
 € 36\,–)\nFachliteratur\, Kartensets\, Einhand-Ruten u.v.m. sind im Ku
 rs erhältlich.\n\n&nbsp\;\nInfos/Anmeldung:\n kathi.steiner@aon.at  bzw.
  Handy Nr. 0650-7773769  oder\ndenise.wahl@informations-energetik.at  b
 zw.  Handy Nr. 0650-5267000\n\n&nbsp\;\n\nWeitere Informationen siehe unt
 er www.informations-energetik.at\n\n&nbsp\;\n\n\n&nbsp\;
ATTACH;FMTTYPE=image/jpeg:https://www.informations-energetik.at/wp-content
 /uploads/2014/06/DSC_0018-e1486113607431.jpg
CATEGORIES:Energie und Balance - Kompaktkurs
LOCATION:Katharina Steiner    Energetikpraxis\, Aisttalstraße 44\, 4311 Sc
 hwertberg\, Oberösterreich\, Österreich
GEO:48.2691737;14.575191200000063
X-APPLE-STRUCTURED-LOCATION;VALUE=URI;X-ADDRESS=Aisttalstraße 44\, 4311 Sc
 hwertberg\, Oberösterreich\, Österreich;X-APPLE-RADIUS=100;X-TITLE=Katha
 rina Steiner    Energetikpraxis:geo:48.2691737,14.575191200000063
END:VEVENT
BEGIN:VTIMEZONE
TZID:Europe/Vienna
X-LIC-LOCATION:Europe/Vienna
BEGIN:DAYLIGHT
DTSTART:20170326T030000
TZOFFSETFROM:+0100
TZOFFSETTO:+0200
TZNAME:CEST
END:DAYLIGHT
END:VTIMEZONE
END:VCALENDAR