BEGIN:VCALENDAR
VERSION:2.0
PRODID:-//wp-events-plugin.com//6.6.3//EN
TZID:Europe/Vienna
X-WR-TIMEZONE:Europe/Vienna
BEGIN:VEVENT
UID:144@informations-energetik.at
DTSTART;TZID=Europe/Vienna:20160701T140000
DTEND;TZID=Europe/Vienna:20160701T190000
DTSTAMP:20160531T125616Z
URL:https://www.informations-energetik.at/veranstaltungen/emotionsblockade
 n-identifizieren-und-aufloesen-3/
SUMMARY:Emotionsblockaden - identifizieren und auflösen - Zentrum für Inf
 ormations-Energetik\, Denise Wahl - 1 Juli 16 14:00
DESCRIPTION:Der Emotions-Code ist eine von Dr. Nelson Bradley entwickelte e
 infache Technik um blockierende\, im Körper eingeschlossene\, Emotionen z
 u lösen.\nMan kann sie nicht sehen\, wohl aber spüren. Sie können früh
 er oder später auch körperliche Probleme bereiten\, wie eine unsichtbare
  Epidemie“\, so Dr. Bradley!\n\nPermanente negative Gefühle\, Stress- u
 nd Ärgerthemen wirken sich belastend auf meinen Energiekörper aus. Mit e
 infacher Testung  oder sensitivem Einfühlungs-vermögen (Inneres Wissen\
 , kinesiologische Testung\, Einhand-Rute\, Pendel\, …)\nkann man festsit
 zende Emotionen erkennen und mit Hilfe eines Magneten herausziehen und auf
 lösen.  Wichtig: Es ist kein Seelenstriptease erforderlich.\n\nWir leben
  in einer außergewöhnlichen Zeit\, in der dieses uralte Wissen aus allen
  Zeitaltern der Geschichte wieder hervorkommt und allen zur Verfügung ste
 ht.\n\n&nbsp\;\n\nFeedback von Kursteilnehmer/innen: \n\n	„Es fühlt sic
 h absolut erleichternd an\, als ob eine große Last vom Körper abfällt-W
 .D.“\n	„DANKE\, für diesen sehr informativen\, hilfreichen "DREAM-TEA
 M" Kurs! Dieses praxisnahe Erlernen mit vielen praktischen Anwendungen war
  einfach SPITZE! Es war für mich ein sehr lehrreicher\, heilsamer Nachmit
 tag!!! – H.K.“\n	„Sehr empfehlenswert – sowohl bei mir und auch be
 i anderen schon tolle Erfahrungen damit gemacht – R.F.“\n\n&nbsp\;\n\n
 Leitung: Denise Wahl\n\nEnergieausgleich: €  123\,-- inkl. MwSt.\ninkl.
  Pausengetränke\, Kuchen und Kursunterlagen!\n\n&nbsp\;\nAnmeldung unter:
 \ndenise.wahl@informations-energetik.at  oder Tel. Nr. 07262/52670\n&nbsp
 \;
ATTACH;FMTTYPE=image/jpeg:https://www.informations-energetik.at/wp-content
 /uploads/2015/02/DSC_0298-e1436883180934.jpg
CATEGORIES:Spezialkurs: Selbstcoaching mit Alpha-Codierung und
 Magnettechnik - Spezial SP 1,Spezialkurse
LOCATION:Zentrum für Informations-Energetik\, Denise Wahl\, Lanzenberg 54\
 , 4320 Perg\, Österreich
GEO:48.25760529999999;14.62333430000001
X-APPLE-STRUCTURED-LOCATION;VALUE=URI;X-ADDRESS=Lanzenberg 54\, 4320 Perg\,
  Österreich;X-APPLE-RADIUS=100;X-TITLE=Zentrum für Informations-Energeti
 k\, Denise Wahl:geo:48.25760529999999,14.62333430000001
END:VEVENT
BEGIN:VTIMEZONE
TZID:Europe/Vienna
X-LIC-LOCATION:Europe/Vienna
BEGIN:DAYLIGHT
DTSTART:20160327T030000
TZOFFSETFROM:+0100
TZOFFSETTO:+0200
TZNAME:CEST
END:DAYLIGHT
END:VTIMEZONE
END:VCALENDAR