BEGIN:VCALENDAR
VERSION:2.0
PRODID:-//wp-events-plugin.com//6.6.3//EN
TZID:Europe/Vienna
X-WR-TIMEZONE:Europe/Vienna
BEGIN:VEVENT
UID:94@informations-energetik.at
DTSTART;TZID=Europe/Vienna:20150715T100000
DTEND;TZID=Europe/Vienna:20150715T150000
DTSTAMP:20150713T165152Z
URL:https://www.informations-energetik.at/veranstaltungen/alpha-synapsen-p
 rogrammierung-2/
SUMMARY:Alpha-Synapsen-Programmierung - Shiatsu & Energetik Praxis - Nieder
 wimmer - 15 Juli 15 10:00
DESCRIPTION:Referentin Theresia Niederwimmer\n\nInfos / Anmeldung unter: th
 eresia.niederwimmer@gmail.com  - Tel. Nr. 07242/55258\n\n&nbsp\;\n\nDie A
 usbildung erfolgt in Kleingruppen  mit 2\, 4 oder 6 Personen.\n\nVorausse
 tzung zum Seminar ist der Umgang mit Einhandrute\, Pendel oder kinesiologi
 sche Austestung. Wer im Vorfeld das Austesten mit dem Tensor erlernen möc
 hte\, so ist dies in unserem Zentrum möglich.\n\nInhalt: Erklären der Al
 pha-Scheibe\, wie man sie einsetzen und nutzen kann.\n\n&nbsp\;\n\nPreis: 
  €  235\,00      (ohne Alphascheibe und Buch)\n\nDie Preise für 
 Seminar\, Scheibe und Buch sind vom ASP-Institut Lissy Götz vorgegeben.\n
 \n&nbsp\;\n\nAlphascheibe:  € 95\,--\n\nBuch: Und am Ende steht  Freih
 eit  Programmieren Sie sich selbst  € 29\,-- Autorin: Lissy Götz\n\n
 Die gelernte IT-Programmiererin hat eine Methode entwickelt\, wie jederman
 n mit einfachen Mitteln die Synapsen in seinem Gehirn „umprogrammieren
 “ kann.\n\nDie Produkte sind bei uns erhältlich.
ATTACH;FMTTYPE=image/jpeg:https://www.informations-energetik.at/wp-content
 /uploads/2013/08/Foto-Resi-für-Kurs-DSC035091-e1436803667666.jpg
CATEGORIES:Spezialkurs: Alpha Synapsen Programmierung,Spezialkurse
LOCATION:Shiatsu & Energetik Praxis - Niederwimmer\, Unterschauersberg 18\,
  4600  Thalheim bei Wels\, Österreich
GEO:48.138642;14.030494800000042
X-APPLE-STRUCTURED-LOCATION;VALUE=URI;X-ADDRESS=Unterschauersberg 18\, 4600
   Thalheim bei Wels\, Österreich;X-APPLE-RADIUS=100;X-TITLE=Shiatsu & Ene
 rgetik Praxis - Niederwimmer:geo:48.138642,14.030494800000042
END:VEVENT
BEGIN:VTIMEZONE
TZID:Europe/Vienna
X-LIC-LOCATION:Europe/Vienna
BEGIN:DAYLIGHT
DTSTART:20150329T030000
TZOFFSETFROM:+0100
TZOFFSETTO:+0200
TZNAME:CEST
END:DAYLIGHT
END:VTIMEZONE
END:VCALENDAR